﻿BEGIN:VCALENDAR
VERSION:2.0
PRODID:-//Delegazione Regionale Lombardia - Azione Cattolica Italiana - ECPv5.14.2.1//NONSGML v1.0//EN
CALSCALE:GREGORIAN
METHOD:PUBLISH
X-WR-CALNAME:Delegazione Regionale Lombardia - Azione Cattolica Italiana
X-ORIGINAL-URL:https://lombardia.azionecattolica.it
X-WR-CALDESC:Eventi per Delegazione Regionale Lombardia - Azione Cattolica Italiana
BEGIN:VTIMEZONE
TZID:Europe/Rome
BEGIN:DAYLIGHT
TZOFFSETFROM:+0100
TZOFFSETTO:+0200
TZNAME:CEST
DTSTART:20180325T010000
END:DAYLIGHT
BEGIN:STANDARD
TZOFFSETFROM:+0200
TZOFFSETTO:+0100
TZNAME:CET
DTSTART:20181028T010000
END:STANDARD
END:VTIMEZONE
BEGIN:VEVENT
DTSTART;TZID=Europe/Rome:20180316T093000
DTEND;TZID=Europe/Rome:20180316T170000
DTSTAMP:20260422T022526
CREATED:20180223T105412Z
LAST-MODIFIED:20180223T105412Z
UID:338-1521192600-1521219600@lombardia.azionecattolica.it
SUMMARY:16 marzo '18: Convegno all'Università Cattolica di Milano
DESCRIPTION:Tema: L’impegno educativo dell’Azione Cattolica Italiana in centocinquant’anni di storia \nOrario: dalle ore 9.30 – Università Cattolica\, Milano \nL’Istituto Paolo VI e il Dipartimento di Pedagogia dell’Università Cattolica del Sacro Cuore hanno organizzato a Milano il convegno per riflettere e confrontarci sull’impegno educativo della nostra associazione nella sua storia. Il convegno\, promosso all’interno delle celebrazioni dei 150 anni dalla nascita dell’AC\, vuole esser un’occasione per un approfondimento sul ruolo educativo dell’associazione sia da un punto di vista storico sia guardando alla sua presenza nel mondo\, oggi. \n\nDocumenti:\n\n\nLocandina con programma\n\n\nScheda di iscrizione e note tecniche\n\n\nEsonero del Miur
URL:https://lombardia.azionecattolica.it/appuntamento/16-marzo-18-convegno-alluniversita-cattolica-di-milano/
LOCATION:Università Cattolica\, Largo Gemelli\, 1\, Milano\, Italia
END:VEVENT
END:VCALENDAR