﻿BEGIN:VCALENDAR
VERSION:2.0
PRODID:-//Delegazione Regionale Lombardia - Azione Cattolica Italiana - ECPv5.14.2.1//NONSGML v1.0//EN
CALSCALE:GREGORIAN
METHOD:PUBLISH
X-WR-CALNAME:Delegazione Regionale Lombardia - Azione Cattolica Italiana
X-ORIGINAL-URL:https://lombardia.azionecattolica.it
X-WR-CALDESC:Eventi per Delegazione Regionale Lombardia - Azione Cattolica Italiana
BEGIN:VTIMEZONE
TZID:Europe/Rome
BEGIN:DAYLIGHT
TZOFFSETFROM:+0100
TZOFFSETTO:+0200
TZNAME:CEST
DTSTART:20170326T010000
END:DAYLIGHT
BEGIN:STANDARD
TZOFFSETFROM:+0200
TZOFFSETTO:+0100
TZNAME:CET
DTSTART:20171029T010000
END:STANDARD
END:VTIMEZONE
BEGIN:VEVENT
DTSTART;TZID=Europe/Rome:20171112T084500
DTEND;TZID=Europe/Rome:20171112T163000
DTSTAMP:20260421T230629
CREATED:20171112T050016Z
LAST-MODIFIED:20171119T074451Z
UID:296-1510476300-1510504200@lombardia.azionecattolica.it
SUMMARY:POOR –EDUCATION? Sì grazie!
DESCRIPTION:I materiali del Convegno \nA breve\, per la prima volta\, si celebrerà la Giornata mondiale per i Poveri\, voluta da Papa Francesco come uno dei frutti del giubileo della Misericordia. Questa scadenza si incrocia significativamente con altre: la pubblicazione di Caritas del “4^ Rapporto sulle politiche contro la povertà”\, la prossima pubblicazione del rapporto su “Povertà ed esclusione sociale in Italia” e un rapporto frutto di un monitoraggio dei territori. La focalizzazione sul tema povertà è motivo anche di dibattito politico e di nuovi interventi economico-finanziari per l’attuazione del REI . Queste misure quali idee ed emozioni suscitano nell’opinione pubblica? Riescono a modificare lo sguardo nei confronti dei tanti poveri e delle tante forme di povertà che sono tra noi e anche in noi? Troppo\nspesso questo tema\, anche nelle comunità cristiane\, rischia di essere delegato alla Caritas senza diventare una via mediante la quale vivere una significativa conversione missionaria. A questa invece ci possono veramente educare i poveri come scrive Papa Francesco: I poveri non sono un problema: sono una risorsa a cui attingere per accogliere e vivere l’essenza del Vangelo. \nIn questo orizzonte\, l’Azione Cattolica Italiana è stata promotrice fin dall’inizio nel 2013\ndell’Allenza contro la povertà\, promossa con Caritas\, ACLI\, Cisl e altre realtà\, operanti a livello nazionale e regionale. Con il desiderio di alzare l’attenzione su questo tema\, farne motivo di riflessione\, principio di azione e criterio per illuminare tante attività che già accadono\, il Consiglio regionale delle Presidenze di Azione Cattolica delle Diocesi di Lombardia invita a un convegno pubblico il 12 novembre a Cremona presso il Centro pastorale Maria Sedes Sapientae – via Sant’Antonio del Fuoco 9/a dalle ore 9 alle ore 16\,30. Il titolo è “Quando economia fa rima con profezia” . Interverrà il Presidente Nazionale delle ACLI il dott. Roberto Rossini\, celebrerà alle ore 12 il vescovo di Cremona S. E. Antonio Napolioni. I lavori continueranno nel pomeriggio (per\ninformazioni segreteria@azionecattolicacremona.it).\nValentina Soncini (Delegata Regionale di Azione Cattolica) \n(Pubblicato in Avvenire – Milano7 del 12 novembre ’17)
URL:https://lombardia.azionecattolica.it/appuntamento/296/
LOCATION:Centro Pastorale Maria Sedes Sapientiae\, Via S. Antonio del Fuoco\, 9/a\, Cremona\, Italia
CATEGORIES:Consiglio regionale,Delegazione regionale
END:VEVENT
END:VCALENDAR