﻿BEGIN:VCALENDAR
VERSION:2.0
PRODID:-//Delegazione Regionale Lombardia - Azione Cattolica Italiana - ECPv5.14.2.1//NONSGML v1.0//EN
CALSCALE:GREGORIAN
METHOD:PUBLISH
X-WR-CALNAME:Delegazione Regionale Lombardia - Azione Cattolica Italiana
X-ORIGINAL-URL:https://lombardia.azionecattolica.it
X-WR-CALDESC:Eventi per Delegazione Regionale Lombardia - Azione Cattolica Italiana
BEGIN:VTIMEZONE
TZID:Europe/Rome
BEGIN:DAYLIGHT
TZOFFSETFROM:+0100
TZOFFSETTO:+0200
TZNAME:CEST
DTSTART:20190331T010000
END:DAYLIGHT
BEGIN:STANDARD
TZOFFSETFROM:+0200
TZOFFSETTO:+0100
TZNAME:CET
DTSTART:20191027T010000
END:STANDARD
END:VTIMEZONE
BEGIN:VEVENT
DTSTART;TZID=Europe/Rome:20191021T180000
DTEND;TZID=Europe/Rome:20191021T200000
DTSTAMP:20260422T010442
CREATED:20191004T074044Z
LAST-MODIFIED:20191004T074044Z
UID:639-1571680800-1571688000@lombardia.azionecattolica.it
SUMMARY:LA SCOMMESSA CATTOLICA
DESCRIPTION:
URL:https://lombardia.azionecattolica.it/appuntamento/la-scommessa-cattolica/
LOCATION:Salone ACLI Lombardia\, Via Bernardino Luini\, 5\, Milano\, Italia
END:VEVENT
END:VCALENDAR