﻿BEGIN:VCALENDAR
VERSION:2.0
PRODID:-//Delegazione Regionale Lombardia - Azione Cattolica Italiana - ECPv5.14.2.1//NONSGML v1.0//EN
CALSCALE:GREGORIAN
METHOD:PUBLISH
X-WR-CALNAME:Delegazione Regionale Lombardia - Azione Cattolica Italiana
X-ORIGINAL-URL:https://lombardia.azionecattolica.it
X-WR-CALDESC:Eventi per Delegazione Regionale Lombardia - Azione Cattolica Italiana
BEGIN:VTIMEZONE
TZID:Europe/Rome
BEGIN:DAYLIGHT
TZOFFSETFROM:+0100
TZOFFSETTO:+0200
TZNAME:CEST
DTSTART:20180325T010000
END:DAYLIGHT
BEGIN:STANDARD
TZOFFSETFROM:+0200
TZOFFSETTO:+0100
TZNAME:CET
DTSTART:20181028T010000
END:STANDARD
END:VTIMEZONE
BEGIN:VEVENT
DTSTART;TZID=Europe/Rome:20180221T080000
DTEND;TZID=Europe/Rome:20180221T170000
DTSTAMP:20260422T022026
CREATED:20180221T113124Z
LAST-MODIFIED:20180221T113124Z
UID:332-1519200000-1519232400@lombardia.azionecattolica.it
SUMMARY:Modulo comunicazione
DESCRIPTION:Modulo comunicazione – Milano\, 3 Marzo 2018\nAula Olgiati\, Via Sant’Antonio 5 – Milano\nPROGRAMMA \nore 14:00 Accoglienza e saluti \nore 14:15 Intervento del professor Filippo Ceretti (Università di Bolzano): \n\ndinamiche dei social network;\ncome comunichiamo all’esterno della nostra associazione.\n\nore 16:00 Pausa caffè \nore 16:15 Buone prassi – Racconto dell’esperienza della Diocesi di Milano \nore 16:30 Quali strumenti l’Azione Cattolica mette a disposizione (Gioele Anni) \nore 16:45 Come comunichiamo nelle nostre diocesi? Cosa scegliamo di comunicare? Dibattito a gruppi \nore 18:30 Conclusione e partenze
URL:https://lombardia.azionecattolica.it/appuntamento/modulo-comunicazione/
END:VEVENT
END:VCALENDAR