﻿BEGIN:VCALENDAR
VERSION:2.0
PRODID:-//Delegazione Regionale Lombardia - Azione Cattolica Italiana - ECPv5.14.2.1//NONSGML v1.0//EN
CALSCALE:GREGORIAN
METHOD:PUBLISH
X-WR-CALNAME:Delegazione Regionale Lombardia - Azione Cattolica Italiana
X-ORIGINAL-URL:https://lombardia.azionecattolica.it
X-WR-CALDESC:Eventi per Delegazione Regionale Lombardia - Azione Cattolica Italiana
BEGIN:VTIMEZONE
TZID:Europe/Rome
BEGIN:DAYLIGHT
TZOFFSETFROM:+0100
TZOFFSETTO:+0200
TZNAME:CEST
DTSTART:20190331T010000
END:DAYLIGHT
BEGIN:STANDARD
TZOFFSETFROM:+0200
TZOFFSETTO:+0100
TZNAME:CET
DTSTART:20191027T010000
END:STANDARD
END:VTIMEZONE
BEGIN:VEVENT
DTSTART;TZID=Europe/Rome:20190425T150000
DTEND;TZID=Europe/Rome:20190427T153000
DTSTAMP:20260422T005516
CREATED:20190329T163236Z
LAST-MODIFIED:20190329T163236Z
UID:603-1556204400-1556379000@lombardia.azionecattolica.it
SUMMARY:#OnTheRoad 2019 - "ADESSO NON DOMANI"
DESCRIPTION:I giovani dell’Azione Cattolica regionale della Lombardia organizzano anche quest’anno il pellegrinaggio regionale “ON THE ROAD!” \nSui passi di Don Primo Mazzolari\, condividendo fatiche e bellezze\, cammineremo insieme per la nostra regione toccando Mantova\, Grazie\, Rivalta e Bozzolo. \nVisualizza e scarica il programma
URL:https://lombardia.azionecattolica.it/appuntamento/ontheroad-2019-adesso-non-domani/
LOCATION:Basilica di Sant’Andrea\, Piazza Mantegna\, Mantova\, Italia
END:VEVENT
END:VCALENDAR