﻿BEGIN:VCALENDAR
VERSION:2.0
PRODID:-//Delegazione Regionale Lombardia - Azione Cattolica Italiana - ECPv5.14.2.1//NONSGML v1.0//EN
CALSCALE:GREGORIAN
METHOD:PUBLISH
X-WR-CALNAME:Delegazione Regionale Lombardia - Azione Cattolica Italiana
X-ORIGINAL-URL:https://lombardia.azionecattolica.it
X-WR-CALDESC:Eventi per Delegazione Regionale Lombardia - Azione Cattolica Italiana
BEGIN:VTIMEZONE
TZID:Europe/Rome
BEGIN:DAYLIGHT
TZOFFSETFROM:+0100
TZOFFSETTO:+0200
TZNAME:CEST
DTSTART:20180325T010000
END:DAYLIGHT
BEGIN:STANDARD
TZOFFSETFROM:+0200
TZOFFSETTO:+0100
TZNAME:CET
DTSTART:20181028T010000
END:STANDARD
END:VTIMEZONE
BEGIN:VEVENT
DTSTART;TZID=Europe/Rome:20180925T183000
DTEND;TZID=Europe/Rome:20180925T203000
DTSTAMP:20260421T225353
CREATED:20180827T081534Z
LAST-MODIFIED:20181001T084040Z
UID:393-1537900200-1537907400@lombardia.azionecattolica.it
SUMMARY:POLITICA SOTTO LE PARTI...
DESCRIPTION:AUDIO INTERVENTI DELLA SERATA\n\n▶ Saluto di Silvia Landra\n▶ Introduzione di Valentina Soncini\n▶ Saluto di Luciano Caimi\n▶ Intervento di Beatrice Draghetti\n▶ Intervento di Guido Formigoni\n▶ Intervento di Matteo Truffelli\n\nCostruiamo alleanze\, per generare futuro\nArticolo di Gioele Anni sul sito dell’Azione Cattolica di Lodi
URL:https://lombardia.azionecattolica.it/appuntamento/politica-sotto-le-parti/
END:VEVENT
END:VCALENDAR